BEGIN:VCALENDAR
VERSION:2.0
PRODID:icalendar-ruby
CALSCALE:GREGORIAN
METHOD:PUBLISH
BEGIN:VTIMEZONE
TZID:Australia/Adelaide
BEGIN:DAYLIGHT
DTSTART:20261004T030000
TZOFFSETFROM:+0930
TZOFFSETTO:+1030
RRULE:FREQ=YEARLY;BYDAY=1SU;BYMONTH=10
TZNAME:ACDT
END:DAYLIGHT
BEGIN:STANDARD
DTSTART:20260405T020000
TZOFFSETFROM:+1030
TZOFFSETTO:+0930
RRULE:FREQ=YEARLY;BYDAY=1SU;BYMONTH=4
TZNAME:ACST
END:STANDARD
END:VTIMEZONE
BEGIN:VEVENT
DTSTAMP:20260423T235016Z
UID:inspection_3010544
DTSTART;TZID=Australia/Adelaide:20260424T164500
DTEND;TZID=Australia/Adelaide:20260424T171500
CLASS:PUBLIC
CREATED:20260423T090513
DESCRIPTION: 
LAST-MODIFIED:20260423T090513
LOCATION:19 Kincraig Crescent\, MODBURY SA 5092\, Australia
SUMMARY:19 Kincraig Crescent\,  Inspection
URL;VALUE=URI:https://www.primepropertygroupsa.com.au/
END:VEVENT
END:VCALENDAR
