BEGIN:VCALENDAR
VERSION:2.0
PRODID:icalendar-ruby
CALSCALE:GREGORIAN
METHOD:PUBLISH
BEGIN:VEVENT
DTSTAMP:20260421T094453Z
UID:https://www.primepropertygroupsa.com.au/property?property_id=1762955
DTSTART:20260509T113000
DTEND:20260509T120000
CLASS:PUBLIC
CREATED:20260421T152016
DESCRIPTION: 
LAST-MODIFIED:20260421T152749
LOCATION:5 Raylene Court\, BLAKEVIEW SA 5114\, Australia
SUMMARY:5 Raylene Court\,  Auction
URL;VALUE=URI:https://www.primepropertygroupsa.com.au/property?property_id=
 1762955
END:VEVENT
END:VCALENDAR
